BEGIN:VCALENDAR
VERSION:2.0
PRODID:-//YourCompany//NONSGML v1.0//EN
BEGIN:VEVENT
SUMMARY:WoTS
DTSTART:20260922T000000Z
DTEND:20260925T235959Z
LOCATION:
DESCRIPTION:WoTS 2026. The World of Technology &amp; Science and Industrial Processing have merged into one fair called the World of Technology &amp; Science 2026. The WoTS is divided into five different themes: World of Automation, World of Laboratory, World of Motion &amp; Drives, World of Electronics and World of Industrial Processing.

Present as an exhibitor at WoTS in Jaarbeurs Utrecht? We would love to realize your booth that makes you stand out on the exhibition floor!
END:VEVENT
END:VCALENDAR