BEGIN:VCALENDAR
VERSION:2.0
PRODID:-//YourCompany//NONSGML v1.0//EN
BEGIN:VEVENT
SUMMARY:Wire & Tube
DTSTART:20260413T000000Z
DTEND:20260417T235959Z
LOCATION:
DESCRIPTION:Wire and Tube 2026.

Be part of the world's leading trade fair for the wire, cable and tube processing industry, the central hub for these companies.
Show who you are and where you are. Meet the industry's decision-makers and take advantage of Messe DÃ¼sseldorf's global network.

Are you an exhibitor at Wire and Tube 2026 in Messe Dusseldorf? Cialona Expo Standbouw is happy to help you with a suitable exhibition stand for your exhibition participation.
END:VEVENT
END:VCALENDAR