BEGIN:VCALENDAR
VERSION:2.0
PRODID:-//YourCompany//NONSGML v1.0//EN
BEGIN:VEVENT
SUMMARY:WindEnergy Hamburg
DTSTART:20260922T000000Z
DTEND:20260925T235959Z
LOCATION:
DESCRIPTION:Windenergy Hamburg 2026 is one of the world's largest and most important platforms for the wind industry. Windenergy Hamburg 2026 is there to exchange news and views with stakeholders in the industry and close deals with each other. International and also national wind industries are present at this great fair.

Attending this fair as an exhibitor? We would be happy to help you find a suitable, unique exhibition stand that will blow your customers away!

&nbsp;
END:VEVENT
END:VCALENDAR