BEGIN:VCALENDAR
VERSION:2.0
PRODID:-//YourCompany//NONSGML v1.0//EN
BEGIN:VEVENT
SUMMARY:vt wonen&design beurs
DTSTART:20251007T000000Z
DTEND:20251012T235959Z
LOCATION:
DESCRIPTION:vt wonen&amp;design fair 2025 in Expo Greater Amsterdam in Vijfhuizen. In October, this location will once again be home to the vt wonen&amp;design fair, the fair for home inspiration from the finest home furnishing companies and launches of the latest collections and innovations. In addition to cool exhibitors, there will be inspiring talks, workshops and advice sessions throughout the fair days.

Are you attending as an exhibitor during vt wonen&amp;design fair? We are happy to realize your exhibition stand! See the past exhibition stands here.
END:VEVENT
END:VCALENDAR