BEGIN:VCALENDAR
VERSION:2.0
PRODID:-//YourCompany//NONSGML v1.0//EN
BEGIN:VEVENT
SUMMARY:VIV Europe
DTSTART:20260602T000000Z
DTEND:20260604T235959Z
LOCATION:
DESCRIPTION:VIV Europe 2026 is de 40e jubileumeditie van de beurs. VIV Europe is de zakelijke bijeenkomst dat professionals van Feed to Food bij elkaar brengt om kennis te delen en met elkaar te handelen. Het is een uniek wereldwijd platform voor spelers in de dierlijke eiwitketen. VIV is multispiecies: het gehele netwerk met bijbehorende events omvatten pluimvee, vleeskuikens, leghennen, varkens, runderen, kalveren en aquacultuur.

Deelnemen aan VIV Europe 2026? Wij bouwen graag je unieke beursstand in de Jaarbeurs in Utrecht. Contact ons eens voor alle mogelijkheden!
END:VEVENT
END:VCALENDAR