BEGIN:VCALENDAR
VERSION:2.0
PRODID:-//YourCompany//NONSGML v1.0//EN
BEGIN:VEVENT
SUMMARY:Vakbeurs Energie
DTSTART:20251007T000000Z
DTEND:20251009T235959Z
LOCATION:
DESCRIPTION:Trade Fair Energy 2025. The Vakbeurs Energie is a leading platform for heat, electricity and energy savings. https://www.vakbeursenergie.nl/nl/

Are you an exhibitor at Vakbeurs Energie 2025? We will gladly take care of your booth at this fair.
END:VEVENT
END:VCALENDAR