BEGIN:VCALENDAR
VERSION:2.0
PRODID:-//YourCompany//NONSGML v1.0//EN
BEGIN:VEVENT
SUMMARY:Vakantiebeurs
DTSTART:20260108T000000Z
DTEND:20260111T235959Z
LOCATION:
DESCRIPTION:Vakantiebeurs 2026. The vacation fair is an annual event at the Jaarbeurs in Utrecht. Here organizations come together in the industry, think of; travel organizations, tourist destinations and vacation experts. They present their offerings and hope to inspire visitors for their next vacation.

In addition, the vacation fair 2026 also offers a substantial program of presentations, workshops and interactive activities, making it an ideal place for travel enthusiasts.

Are you planning to exhibit with a unique booth at this fair? Then together we will make sure your stand stands out on the exhibition floor! Do you contact us?
END:VEVENT
END:VCALENDAR