BEGIN:VCALENDAR
VERSION:2.0
PRODID:-//YourCompany//NONSGML v1.0//EN
BEGIN:VEVENT
SUMMARY:Vabotech
DTSTART:20220629T000000Z
DTEND:20220701T235959Z
LOCATION:
DESCRIPTION:Vabotech 2022, the trade fair for construction, installation and electrical engineering, will take place from 7 to 9 April 2022 in the Rai in Amsterdam. During the Vabotech 2022, trade fair visitors come together here for: construction, electrical installation and electrical engineering together for product innovations, construction equipment, construction and installation material and tools, but also for company clothing or company cars.

It is a trade fair that covers many facets of construction, both for small and for larger construction companies in those sectors. Construction and technology are central during Vabotech 2022.
Participant in Vabotech 2022, but no representative exhibition stand yet? Contact us for the possibilities.
END:VEVENT
END:VCALENDAR