BEGIN:VCALENDAR
VERSION:2.0
PRODID:-//YourCompany//NONSGML v1.0//EN
BEGIN:VEVENT
SUMMARY:Transport Compleet
DTSTART:20240611T000000Z
DTEND:20240613T235959Z
LOCATION:
DESCRIPTION:Transport Complete 2023 is the trade fair where the transport industry comes together. In 2023 this fair will be in Evenementenhal Gorinchem.
END:VEVENT
END:VCALENDAR