BEGIN:VCALENDAR
VERSION:2.0
PRODID:-//YourCompany//NONSGML v1.0//EN
BEGIN:VEVENT
SUMMARY:The Tire
DTSTART:20260609T000000Z
DTEND:20260611T235959Z
LOCATION:
DESCRIPTION:THE TIRE 2026 COLOGNE is the international trade fair for the tyre industry. Motor vehicle and tyre workshop equipment features prominently in addition to tyres and wheels. The offering is rounded off by tyre retreading and the recycling and disposal of old tyres.

Exhibitor during The Tire 2026? We are happy to build your stand!
END:VEVENT
END:VCALENDAR