BEGIN:VCALENDAR
VERSION:2.0
PRODID:-//YourCompany//NONSGML v1.0//EN
BEGIN:VEVENT
SUMMARY:The Battery Show
DTSTART:20250603T000000Z
DTEND:20250605T235959Z
LOCATION:
DESCRIPTION:The Battery Show 2025. In June, the Battery Show will take place again in Stuttgart, Germany.

The Battery Show provides a global platform to develop the advanced solutions. Think of batteries for, for example, electric vehicles, network support and the application of alternative energy. This industry trade show supply chain. The developments that are shared here are in the field of raw materials up to and including battery pack systems.

Do you work in this industry, but don't have a standout stand for Battery Show 2025? Contact us for a cool proposal!
END:VEVENT
END:VCALENDAR