BEGIN:VCALENDAR
VERSION:2.0
PRODID:-//YourCompany//NONSGML v1.0//EN
BEGIN:VEVENT
SUMMARY:Sibos
DTSTART:20250929T000000Z
DTEND:20251002T235959Z
LOCATION:
DESCRIPTION:Sibos 2025 is dit jaar in de Messe Frankfurt. Het is 's werelds belangrijkste evenement op het gebied van financiÃ«le dienstverlening. Dit jaarlijkse congres, tentoonstelling, netwerkevenement wordt door SWIFT georganiseerd voor de financiÃ«le sector en wordt jaarlijks over de hele wereld in grote steden gehouden.

Bent u aanwezig als exposant tijdens Sibos 2025? Wij helpen u graag aan een passende beursstand. Sibos 2025 Messe Frankfurt.
END:VEVENT
END:VCALENDAR