BEGIN:VCALENDAR
VERSION:2.0
PRODID:-//YourCompany//NONSGML v1.0//EN
BEGIN:VEVENT
SUMMARY:Second Home Fair
DTSTART:20220930T000000Z
DTEND:20221002T235959Z
LOCATION:
DESCRIPTION:The Second Home Fair in Utrecht is the fair for people looking for a second home. Every year this fair attracts over 15000 visitors. 

Are you an exhibitor at the Second Home Fair in Jaarbeurs Utrecht? We are happy to design and realize your exhibition stand. 
END:VEVENT
END:VCALENDAR