BEGIN:VCALENDAR
VERSION:2.0
PRODID:-//YourCompany//NONSGML v1.0//EN
BEGIN:VEVENT
SUMMARY:Prowein
DTSTART:20270307T000000Z
DTEND:20270309T235959Z
LOCATION:
DESCRIPTION:Prowein 2025 in Messe DÃ¼sseldorf. Prowein is the leading international trade fair for wine and spirits professionals. Visitors are treated to tastings during Prowein and can take a look at the rich world of viticulture and discover the latest trends of the industry here. Only professionals are present at this trade fair, because it is all about business contacts and deals.

Are you present at Prowein 2025 in Messe Dusseldorf as an exhibitor? We are happy to design and realize your exhibition stand. Shall we meet?
END:VEVENT
END:VCALENDAR