BEGIN:VCALENDAR
VERSION:2.0
PRODID:-//YourCompany//NONSGML v1.0//EN
BEGIN:VEVENT
SUMMARY:MWC Barcelona
DTSTART:20260302T000000Z
DTEND:20270305T235959Z
LOCATION:
DESCRIPTION:The MWC (Mobile World Congress) in Barcelona is the world's largest trade show for the mobile industry. The show brings together manufacturers, tech companies, network providers, developers and other interested parties every year. Here they talk together about the latest innovations, technologies, products and services in their industries.

In addition to MWC Barcelona, there are also MWC events in other cities including Shanghai and Los Angeles.

Are you an exhibitor during MWC Barcelona? Contact us today for a unique exhibition stand full of experience!
END:VEVENT
END:VCALENDAR