BEGIN:VCALENDAR
VERSION:2.0
PRODID:-//YourCompany//NONSGML v1.0//EN
BEGIN:VEVENT
SUMMARY:Multimodaal Transport Expo
DTSTART:20250313T000000Z
DTEND:20250313T235959Z
LOCATION:
DESCRIPTION:Multimodal Transport Expo in Breda. This exhibition brings together professionals from the logistics and transport sector to discover the latest developments in sustainable and efficient transport solutions. From innovative freight transport techniques to smart logistics solutions, this fair is one of the transport fairs in the Netherlands and provides a platform where experts and companies exchange ideas and work together on the future of multimodal transport.

Exhibitor during Multimodal Transport Expo in Breda? Cialona Expo provides an eye-catching exhibition stand! Contact us?
END:VEVENT
END:VCALENDAR