BEGIN:VCALENDAR
VERSION:2.0
PRODID:-//YourCompany//NONSGML v1.0//EN
BEGIN:VEVENT
SUMMARY:Money 20/20
DTSTART:20250603T000000Z
DTEND:20250605T235959Z
LOCATION:
DESCRIPTION:Money 20/20 in Amsterdam, juni 2025. Het belangrijkste event op de kalender waar C-level executives, gerenommeerde sprekers, innovators en disruptors van over de hele wereld verandering in de toekomst van geld stimuleren. Het event in Amsterdam duurt drie dagen, waar je connecties kunt leggen, gesprekken kunt voeren en de juiste ontdekkingen van interessante individuen en organisaties kunt doen om te kunnen groeien.

Tijdens Money 20/20 worden individuen die er toe doen in de fintech samengebracht. Dit is de plek waar de industrie vooruit gaat. Van techreuzen tot startups, het is een continue botsing van mensen en doelen. Men wordt hier gestimuleerd om nieuwe partnerschappen en strategieÃ«n aan te gaan. Dit is de toekomst.

Bent u een van die bijna 2000 organisaties die deelneemt aan Money 20/20 2025 in Amsterdam en wilt u opvallen tijdens het event? Contact ons voor de mogelijkheden en ontvang een vrijblijvende offerte.
END:VEVENT
END:VCALENDAR