BEGIN:VCALENDAR
VERSION:2.0
PRODID:-//YourCompany//NONSGML v1.0//EN
BEGIN:VEVENT
SUMMARY:Logimat
DTSTART:20250311T000000Z
DTEND:20250313T235959Z
LOCATION:
DESCRIPTION:Logimat 2025.

LogiMAT 2025 offers the trade public a comprehensive overview of all key topics in the sector, from procurement to production and delivery.

International exhibitors present innovative technologies, products, systems and solutions for rationalization, process optimization and cost reduction of in-company logistics processes.
END:VEVENT
END:VCALENDAR