BEGIN:VCALENDAR
VERSION:2.0
PRODID:-//YourCompany//NONSGML v1.0//EN
BEGIN:VEVENT
SUMMARY:Kind und Jugend
DTSTART:20250909T000000Z
DTEND:20250911T235959Z
LOCATION:
DESCRIPTION:Kind und Jugend 2025. Kind und Jugend is the internationally leading trade fair for premium baby and toddler products in Cologne.

The international leading trade fair for premium baby and toddler products is the perfect platform for global trade and the order business. In no other place in the world can one see so much of what will be in the children's rooms tomorrow.

https://www.kindundjugend.com/

Need an exhibition stand for Kind und Jugend 2025? Cialona Expo!Â 
END:VEVENT
END:VCALENDAR