BEGIN:VCALENDAR
VERSION:2.0
PRODID:-//YourCompany//NONSGML v1.0//EN
BEGIN:VEVENT
SUMMARY:ISE
DTSTART:20270202T000000Z
DTEND:20270205T235959Z
LOCATION:
DESCRIPTION:ISE 2025 in Gran Via Barcelona.
Integrated Systems Europe is the world's leading AV and systems integration exhibition. ISE 2025 showcases the world's leading technology innovators and solution providers. They also offer five days of dedicated conferences, events and experiences. Stand out as an organization during ISE 2025 in Barcelona? No problem! We will build your unique exhibition stand at your exhibition location.
END:VEVENT
END:VCALENDAR