BEGIN:VCALENDAR
VERSION:2.0
PRODID:-//YourCompany//NONSGML v1.0//EN
BEGIN:VEVENT
SUMMARY:Interspill
DTSTART:20250408T000000Z
DTEND:20250410T235959Z
LOCATION:
DESCRIPTION:Interspill 2025 is de conferentie en vakbeurs over olierampen. Interspill 2025 is in Excel Londen. Dit event richt zich op de mogelijke problemen die kunnen ontstaan bij toekomstige olielozingen en biedt een platform aan internationale experts en leiders uit de industrie. Hier kunnen zij innovaties laten zien, bedrijfsontwikkelingen en samen discussiÃ«ren en netwerken. Een waardevol event.
Bent u erbij, maar heeft u nog geen passende beursstand? Contact ons eens, we komen graag eens kennismaken!
END:VEVENT
END:VCALENDAR