BEGIN:VCALENDAR
VERSION:2.0
PRODID:-//YourCompany//NONSGML v1.0//EN
BEGIN:VEVENT
SUMMARY:Intersolution
DTSTART:20270127T000000Z
DTEND:20270128T235959Z
LOCATION:
DESCRIPTION:Intersolution. Intersolution is an exhibition for the solar energy industry in the Benelux that takes place at Flanders Expo Ghent. Solar energy remains interesting, of course, especially now that the focus worldwide is on sustainability. Sustainability is a central topic in many industries, including solar energy.

Intersolution is one of the fairs where supply and demand meet, as leading suppliers from Europe demonstrate their innovations and solutions here. In terms of innovations and solutions, you can think of control technologies, mounting systems, energy storage and software.

Present as an exhibitor at Intersolution? We would be happy to help you find a suitable exhibition stand!
END:VEVENT
END:VCALENDAR