BEGIN:VCALENDAR
VERSION:2.0
PRODID:-//YourCompany//NONSGML v1.0//EN
BEGIN:VEVENT
SUMMARY:Interschutz
DTSTART:20260601T000000Z
DTEND:20260606T235959Z
LOCATION:
DESCRIPTION:Interschutz 2026. Interschutz is de toonaangevende vakbeurs voor reddingsdiensten, brandbestrijding, rampenbestrijding en beveiliging. En vindt om de vijf jaar plaats. INTERSCHUTZ heeft als hoofdthema's: Teams, Tactics, Technology â€“ Connected for Protection and Rescue. https://www.interschutz.de/en/
END:VEVENT
END:VCALENDAR