BEGIN:VCALENDAR
VERSION:2.0
PRODID:-//YourCompany//NONSGML v1.0//EN
BEGIN:VEVENT
SUMMARY:Interpack
DTSTART:20260507T000000Z
DTEND:20260513T235959Z
LOCATION:
DESCRIPTION:Interpack 2023. Interpack is an international packaging fair for the food, beverage, confectionery, bakery, pharmaceutical, cosmetics, non-food and industrial sectors.
END:VEVENT
END:VCALENDAR