BEGIN:VCALENDAR
VERSION:2.0
PRODID:-//YourCompany//NONSGML v1.0//EN
BEGIN:VEVENT
SUMMARY:Intermodal Europe
DTSTART:20251021T000000Z
DTEND:20251023T235959Z
LOCATION:
DESCRIPTION:Intermodal Europe 2025 is the world's leading exhibition and conference for companies involved in the container and intermodal industry, covering all areas of container transport and logistics by road, rail and sea.

At the Intermodal, we realized FUWA' s sustainable exhibition stand, which also won an award for its contribution to a positive environmental impact in stand construction.

Exhibitor during 2025? We will gladly help you find a suitable exhibition stand, with which you will stand out during Intermodal 2025 in Fira Barcelona!
END:VEVENT
END:VCALENDAR