BEGIN:VCALENDAR
VERSION:2.0
PRODID:-//YourCompany//NONSGML v1.0//EN
BEGIN:VEVENT
SUMMARY:Interclean
DTSTART:20260514T000000Z
DTEND:20260517T235959Z
LOCATION:
DESCRIPTION:Interclean 2026 in de Rai in Amsterdam. De meest innovatieve schoonmaak- en hygiÃ«nebeurs ter wereld.

Bent u erbij? Wij verzorgen graag uw beursstand voor Interclean 2026. Neem eens een kijkje in ons portfolio.
END:VEVENT
END:VCALENDAR