BEGIN:VCALENDAR
VERSION:2.0
PRODID:-//YourCompany//NONSGML v1.0//EN
BEGIN:VEVENT
SUMMARY:IAA
DTSTART:20251009T000000Z
DTEND:20251014T235959Z
LOCATION:
DESCRIPTION:The IAA is the leading mobility trade show.

The IAA Mobility Show showcases the mobility of the future, dedication to constant change and a platform for everyone shaping the future.

Present as an exhibitor at the IAA Mobility Show 2025 in Munich? Contact us today!

https://www.iaa-mobility.com/en
END:VEVENT
END:VCALENDAR