BEGIN:VCALENDAR
VERSION:2.0
PRODID:-//YourCompany//NONSGML v1.0//EN
BEGIN:VEVENT
SUMMARY:Horecava
DTSTART:20260112T000000Z
DTEND:20260115T235959Z
LOCATION:
DESCRIPTION:The Horecava 2026. For 65 years, the Horecava fair in Rai Amsterdam has been the place for professionals in the world of eating, drinking and sleeping outside.

More than 55,000 hospitality professionals from more than 35,000 interested companies are looking for trends and new products and services.

Want to participate in Horecava 2026, but don't have an exhibition stand yet? Contact us, we are happy to create a suitable exhibition stand together!
END:VEVENT
END:VCALENDAR