BEGIN:VCALENDAR
VERSION:2.0
PRODID:-//YourCompany//NONSGML v1.0//EN
BEGIN:VEVENT
SUMMARY:Heimtextil
DTSTART:20260113T000000Z
DTEND:20260116T235959Z
LOCATION:
DESCRIPTION:Heimtextil 2026 Messe Frankfurt. Heimtextil is the global trade fair for residential and contract textiles and textile design. Here the industry comes together to present trends, developments and latest products.

Are you an exhibitor at Heimtextil 2026? We would be happy to get to work for you for a unique exhibition stand, contact us today!

&nbsp;
END:VEVENT
END:VCALENDAR