BEGIN:VCALENDAR
VERSION:2.0
PRODID:-//YourCompany//NONSGML v1.0//EN
BEGIN:VEVENT
SUMMARY:Greentech Americas
DTSTART:20230321T000000Z
DTEND:20230323T235959Z
LOCATION:
DESCRIPTION:GreenTech Americas 2023.

During this three-day trade show, which provides the perfect platform to establish profitable business relationships, exchange ideas and join other professionals, investors and experts doing business in the horticultural industry in America.

&nbsp;

&nbsp;
END:VEVENT
END:VCALENDAR