BEGIN:VCALENDAR
VERSION:2.0
PRODID:-//YourCompany//NONSGML v1.0//EN
BEGIN:VEVENT
SUMMARY:Fibo
DTSTART:20250410T000000Z
DTEND:20250413T235959Z
LOCATION:
DESCRIPTION:Fibo 2025 in Cologne is the largest international trade fair for fitness, wellness &amp; health.
END:VEVENT
END:VCALENDAR