BEGIN:VCALENDAR
VERSION:2.0
PRODID:-//YourCompany//NONSGML v1.0//EN
BEGIN:VEVENT
SUMMARY:Fastener Fair
DTSTART:20270406T000000Z
DTEND:20270408T235959Z
LOCATION:
DESCRIPTION:Fastener Fair 2025 in Stuttgart.

Showcase your latest developments and systems from all areas of fastener and fixing tech at the Fastener Fair in Stuttgart this year.
END:VEVENT
END:VCALENDAR