BEGIN:VCALENDAR
VERSION:2.0
PRODID:-//YourCompany//NONSGML v1.0//EN
BEGIN:VEVENT
SUMMARY:EXPO REAL 2024
DTSTART:20261005T000000Z
DTEND:20261007T235959Z
LOCATION:
DESCRIPTION:EXPO REAL 2025 in Messe Munchen. EXPO REAL is for the major players in the real estate industry all in one place in Messe Munchen. Visitors come here to gather information about all facets within the real estate industry. The entire life cycle from concept and development, financing, realization, marketing, operation and use are covered here.

Are you an exhibitor at EXPO REAL real estate fair in Munich? Cialona Expo will be happy to help you with a unique exhibition stand! We have a great deal of experience with exhibition stands for organizations in the real estate sector; take a look at Van Wijnen's stand at Provada, for example.

Shall we meet up?Â 

&nbsp;
END:VEVENT
END:VCALENDAR