BEGIN:VCALENDAR
VERSION:2.0
PRODID:-//YourCompany//NONSGML v1.0//EN
BEGIN:VEVENT
SUMMARY:ESEF
DTSTART:20260310T000000Z
DTEND:20260313T235959Z
LOCATION:
DESCRIPTION:Esef 2026 in Jaarbeurs Utrecht.

De ESEF 2026 is de grootste en belangrijkste vakbeurs in de Benelux op het gebied van toeleveren, uitbesteden, productontwikkeling en engineering.

Beursstand nodig voor ESEF 2026? Cialona Expo!
END:VEVENT
END:VCALENDAR