BEGIN:VCALENDAR
VERSION:2.0
PRODID:-//YourCompany//NONSGML v1.0//EN
BEGIN:VEVENT
SUMMARY:ESCRS
DTSTART:20250228T000000Z
DTEND:20250302T235959Z
LOCATION:
DESCRIPTION:ESCRS 2025.

ESCRS is in 1991 opgericht om onderwijs en onderzoek op het gebied van implantaat- en refractieve chirurgie te bevorderen en de studie en praktijk van oogheelkunde te bevorderen en te bevorderen. ESCRS wil onderzoek op het gebied van intraoculaire lensimplantatie en refractieve chirurgie en de verspreiding van de bruikbare resultaten daarvan bevorderen en ondersteunen. ESCRS heeft meer dan 7.500 leden uit 130 landen wereldwijd.
END:VEVENT
END:VCALENDAR