BEGIN:VCALENDAR
VERSION:2.0
PRODID:-//YourCompany//NONSGML v1.0//EN
BEGIN:VEVENT
SUMMARY:De groene sector vakbeurs
DTSTART:20250107T000000Z
DTEND:20250109T235959Z
LOCATION:
DESCRIPTION:The green sector trade fair 2025 in the Hardenberg event hall is the knowledge and networking moment for the green sector. Players from the green sector and interested parties meet each other at this trade fair. After a visit to the green sector trade fair, you will be up to date with the latest machines, laws and regulations and all trends and developments within the green sector.

Are you an exhibitor at the green sector trade fair 2025? We are happy to help you find a suitable exhibition stand that will make you stand out! Do you contact us?
END:VEVENT
END:VCALENDAR