BEGIN:VCALENDAR
VERSION:2.0
PRODID:-//YourCompany//NONSGML v1.0//EN
BEGIN:VEVENT
SUMMARY:CFIA
DTSTART:20250304T000000Z
DTEND:20250306T235959Z
LOCATION:
DESCRIPTION:CFIA 2024

True to its historical values â€‹â€‹- sociability, business, innovation - it will present a complete range of 1,600 exhibitors offering solutions for all professions in the agri-food sector.

Are you attending CFIA 2025 and want to stand out with your booth? We would love to get to work for you!
END:VEVENT
END:VCALENDAR