BEGIN:VCALENDAR
VERSION:2.0
PRODID:-//YourCompany//NONSGML v1.0//EN
BEGIN:VEVENT
SUMMARY:Breakbulk Europe
DTSTART:20250513T000000Z
DTEND:20250515T235959Z
LOCATION:
DESCRIPTION:Breakbulk Europe 2025.

Breakbulk Europe is the world's largest event for the project cargo and general cargo industry. If you're involved in moving oversized and heavy-lift cargo, you've come to the right place. From the best industrial manufacturers, EPCs and project owners to all modes of transport and related service providers, you will have the chance to meet them all. With over 9,700 industry professionals expected at Breakbulk Europe 2024, you'll be networking, you're sure to leave with a host of new customer leads. Source: https://www.offshore-energy.biz/events/breakbulk-europe/
END:VEVENT
END:VCALENDAR