BEGIN:VCALENDAR
VERSION:2.0
PRODID:-//YourCompany//NONSGML v1.0//EN
BEGIN:VEVENT
SUMMARY:Automechanika
DTSTART:20260908T000000Z
DTEND:20260912T235959Z
LOCATION:
DESCRIPTION:Automechanika 2026. De Automechanika in Frankfurt houdt u op de hoogte over de topthema's en innovaties van hÃ©t platform voor de Automotive Aftermarket.

Bent u als exposant aanwezig tijdens de Automechanika 2026 in messe Frankfurt? Wij verzorgen graag uw beursdeelname van A tot Z en komen graag met u in contact.
END:VEVENT
END:VCALENDAR