BEGIN:VCALENDAR
VERSION:2.0
PRODID:-//YourCompany//NONSGML v1.0//EN
BEGIN:VEVENT
SUMMARY:Amsterdam Drone Week (ADM)
DTSTART:20250408T000000Z
DTEND:20250410T235959Z
LOCATION:
DESCRIPTION:Amsterdam Drone Week ADM 2025.

Amsterdam Drone Week is the global platform for sharing knowledge about current air solutions, possible innovations and vital regulations.

During ADW, all major players, large and small, commercial and non-commercial, from different industries, knowledge institutions and governments come together to create and collaborate.
END:VEVENT
END:VCALENDAR