BEGIN:VCALENDAR
VERSION:2.0
PRODID:-//YourCompany//NONSGML v1.0//EN
BEGIN:VEVENT
SUMMARY:50+ Scholarship
DTSTART:20240910T000000Z
DTEND:20240914T235959Z
LOCATION:
DESCRIPTION:ForÂ 28 years, the 50PlusBeurs has beenÂ the worldâ€™s largest eventÂ for active plussers with 550 booths packed with information, entertainment and offers.
END:VEVENT
END:VCALENDAR